Workbook
Name Permits: Permits!$A$2:$E$207
Name Table: 'Confined Space Register'!$B$2:$I$216

Sheet Confined Space Register
B2: Confined Space Permits Register
C4: Permit Number | D4: Open Permit | E4: Date | F4: Geo Location | G4: Vessel | H4: Confined Space Location | I4: Open/Closed
B5: =IF(I5="Open",1,IF(I5="Closed",0,"")) -> 0 | C5: =Permits!A2 -> 260909-02 | D5: =HYPERLINK("https:\\reflectionsdetailing.com.au\reflections\Confined Space Permits\20" & LEFT(C5,2) & " " & MID(C5, 3, 2) & "\" & LEFT(C5, 6) & "\" & C5 & ".pdf", "Open Permit") -> Open Permit | E5: =DATE("20"&LEFT(C5,2),MID(C5,3,2), MID(C5,5,2)) -> 46274 | F5: =Permits!B2 -> Sydney City Marine Rozelle | G5: =Permits!C2 -> Kokomo | H5: =Permits!D2 -> Starboard Fresh Water Tank | I5: =Permits!E2 -> Closed
B6: =IF(I6="Open",1,IF(I6="Closed",0,"")) -> 0 | C6: =Permits!A3 -> 260909-01 | D6: =HYPERLINK("https:\\reflectionsdetailing.com.au\reflections\Confined Space Permits\20" & LEFT(C6,2) & " " & MID(C6, 3, 2) & "\" & LEFT(C6, 6) & "\" & C6 & ".pdf", "Open Permit") -> Open Permit | E6: =DATE("20"&LEFT(C6,2),MID(C6,3,2), MID(C6,5,2)) -> 46274 | F6: =Permits!B3 -> Sydney City Marine Rozelle | G6: =Permits!C3 -> Kokomo | H6: =Permits!D3 -> Port Fresh Water Tank | I6: =Permits!E3 -> Closed
B7: =IF(I7="Open",1,IF(I7="Closed",0,"")) -> 0 | C7: =Permits!A4 -> 260907-02 | D7: =HYPERLINK("https:\\reflectionsdetailing.com.au\reflections\Confined Space Permits\20" & LEFT(C7,2) & " " & MID(C7, 3, 2) & "\" & LEFT(C7, 6) & "\" & C7 & ".pdf", "Open Permit") -> Open Permit | E7: =DATE("20"&LEFT(C7,2),MID(C7,3,2), MID(C7,5,2)) -> 46272 | F7: =Permits!B4 -> Port Botany | G7: =Permits!C4 -> Hellfire Bay | H7: =Permits!D4 -> Port Aft Ballast Tank | I7: =Permits!E4 -> Closed
B8: =IF(I8="Open",1,IF(I8="Closed",0,"")) -> 0 | C8: =Permits!A5 -> 260907-01 | D8: =HYPERLINK("https:\\reflectionsdetailing.com.au\reflections\Confined Space Permits\20" & LEFT(C8,2) & " " & MID(C8, 3, 2) & "\" & LEFT(C8, 6) & "\" & C8 & ".pdf", "Open Permit") -> Open Permit | E8: =DATE("20"&LEFT(C8,2),MID(C8,3,2), MID(C8,5,2)) -> 46272 | F8: =Permits!B5 -> Port Botany | G8: =Permits!C5 -> Hellfire Bay | H8: =Permits!D5 -> Forward Ballast Tank | I8: =Permits!E5 -> Closed
B9: =IF(I9="Open",1,IF(I9="Closed",0,"")) -> 0 | C9: =Permits!A6 -> 260902-06 | D9: =HYPERLINK("https:\\reflectionsdetailing.com.au\reflections\Confined Space Permits\20" & LEFT(C9,2) & " " & MID(C9, 3, 2) & "\" & LEFT(C9, 6) & "\" & C9 & ".pdf", "Open Permit") -> Open Permit | E9: =DATE("20"&LEFT(C9,2),MID(C9,3,2), MID(C9,5,2)) -> 46267 | F9: =Permits!B6 -> Sydney City Marine | G9: =Permits!C6 -> Beatrice Bush | H9: =Permits!D6 -> Ballast Tank Comp 1 | I9: =Permits!E6 -> Closed
B10: =IF(I10="Open",1,IF(I10="Closed",0,"")) -> 0 | C10: =Permits!A7 -> 260902-05 | D10: =HYPERLINK("https:\\reflectionsdetailing.com.au\reflections\Confined Space Permits\20" & LEFT(C10,2) & " " & MID(C10, 3, 2) & "\" & LEFT(C10, 6) & "\" & C10 & ".pdf", "Open Permit") -> Open Permit | E10: =DATE("20"&LEFT(C10,2),MID(C10,3,2), MID(C10,5,2)) -> 46267 | F10: =Permits!B7 -> Sydney City Marine | G10: =Permits!C7 -> Beatrice Bush | H10: =Permits!D7 -> Ballast Tank Comp 4 | I10: =Permits!E7 -> Closed
B11: =IF(I11="Open",1,IF(I11="Closed",0,"")) -> 0 | C11: =Permits!A8 -> 260902-04 | D11: =HYPERLINK("https:\\reflectionsdetailing.com.au\reflections\Confined Space Permits\20" & LEFT(C11,2) & " " & MID(C11, 3, 2) & "\" & LEFT(C11, 6) & "\" & C11 & ".pdf", "Open Permit") -> Open Permit | E11: =DATE("20"&LEFT(C11,2),MID(C11,3,2), MID(C11,5,2)) -> 46267 | F11: =Permits!B8 -> Sydney City Marine | G11: =Permits!C8 -> Beatrice Bush | H11: =Permits!D8 -> Ballast Tank Comp 7 | I11: =Permits!E8 -> Closed
B12: =IF($I$202="Open",1,IF($I$202="Closed",0,"")) -> 0 | C12: =Permits!A9 -> 260902-03 | D12: =HYPERLINK("https:\\reflectionsdetailing.com.au\reflections\Confined Space Permits\20" & LEFT(C12,2) & " " & MID(C12, 3, 2) & "\" & LEFT(C12, 6) & "\" & C12 & ".pdf", "Open Permit") -> Open Permit | E12: =DATE("20"&LEFT(C12,2),MID(C12,3,2), MID(C12,5,2)) -> 46267 | F12: =Permits!B9 -> Sydney City Marine | G12: =Permits!C9 -> Beatrice Bush | H12: =Permits!D9 -> Ballast Tank Comp 8 | I12: =Permits!E9 -> Closed
B13: =IF($I$201="Open",1,IF($I$201="Closed",0,"")) -> 0 | C13: =Permits!A10 -> 260902-02 | D13: =HYPERLINK("https:\\reflectionsdetailing.com.au\reflections\Confined Space Permits\20" & LEFT(C13,2) & " " & MID(C13, 3, 2) & "\" & LEFT(C13, 6) & "\" & C13 & ".pdf", "Open Permit") -> Open Permit | E13: =DATE("20"&LEFT(C13,2),MID(C13,3,2), MID(C13,5,2)) -> 46267 | F13: =Permits!B10 -> Sydney City Marine | G13: =Permits!C10 -> Beatrice Bush | H13: =Permits!D10 -> Ballast Tank Comp 5 | I13: =Permits!E10 -> Closed
B14: =IF($I$200="Open",1,IF($I$200="Closed",0,"")) -> 0 | C14: =Permits!A11 -> 260902-01 | D14: =HYPERLINK("https:\\reflectionsdetailing.com.au\reflections\Confined Space Permits\20" & LEFT(C14,2) & " " & MID(C14, 3, 2) & "\" & LEFT(C14, 6) & "\" & C14 & ".pdf", "Open Permit") -> Open Permit | E14: =DATE("20"&LEFT(C14,2),MID(C14,3,2), MID(C14,5,2)) -> 46267 | F14: =Permits!B11 -> Sydney City Marine | G14: =Permits!C11 -> Beatrice Bush | H14: =Permits!D11 -> Ballast Tank Comp 2 | I14: =Permits!E11 -> Closed
B15: =IF($I$199="Open",1,IF($I$199="Closed",0,"")) -> 0 | C15: =Permits!A12 -> 260824-01 | D15: =HYPERLINK("https:\\reflectionsdetailing.com.au\reflections\Confined Space Permits\20" & LEFT(C15,2) & " " & MID(C15, 3, 2) & "\" & LEFT(C15, 6) & "\" & C15 & ".pdf", "Open Permit") -> Open Permit | E15: =DATE("20"&LEFT(C15,2),MID(C15,3,2), MID(C15,5,2)) -> 46258 | F15: =Permits!B12 -> Sydney City Marine Rozelle | G15: =Permits!C12 -> Ocean Adventurer | H15: =Permits!D12 -> Starboard Engine Room | I15: =Permits!E12 -> Closed
B16: =IF($I$198="Open",1,IF($I$198="Closed",0,"")) -> 0 | C16: =Permits!A13 -> 260821-01 | D16: =HYPERLINK("https:\\reflectionsdetailing.com.au\reflections\Confined Space Permits\20" & LEFT(C16,2) & " " & MID(C16, 3, 2) & "\" & LEFT(C16, 6) & "\" & C16 & ".pdf", "Open Permit") -> Open Permit | E16: =DATE("20"&LEFT(C16,2),MID(C16,3,2), MID(C16,5,2)) -> 46255 | F16: =Permits!B13 -> Sydney City Marine Rozelle | G16: =Permits!C13 -> Ocean Adventurer | H16: =Permits!D13 -> Starboard Engine Room | I16: =Permits!E13 -> Closed
B17: =IF($I$197="Open",1,IF($I$197="Closed",0,"")) -> 0 | C17: =Permits!A14 -> 260820-01 | D17: =HYPERLINK("https:\\reflectionsdetailing.com.au\reflections\Confined Space Permits\20" & LEFT(C17,2) & " " & MID(C17, 3, 2) & "\" & LEFT(C17, 6) & "\" & C17 & ".pdf", "Open Permit") -> Open Permit | E17: =DATE("20"&LEFT(C17,2),MID(C17,3,2), MID(C17,5,2)) -> 46254 | F17: =Permits!B14 -> Sydney City Marine Rozelle | G17: =Permits!C14 -> Ocean Adventurer | H17: =Permits!D14 -> Starboard Engine Room | I17: =Permits!E14 -> Closed
B18: =IF($I$196="Open",1,IF($I$196="Closed",0,"")) -> 0 | C18: =Permits!A15 -> 260819-03 | D18: =HYPERLINK("https:\\reflectionsdetailing.com.au\reflections\Confined Space Permits\20" & LEFT(C18,2) & " " & MID(C18, 3, 2) & "\" & LEFT(C18, 6) & "\" & C18 & ".pdf", "Open Permit") -> Open Permit | E18: =DATE("20"&LEFT(C18,2),MID(C18,3,2), MID(C18,5,2)) -> 46253 | F18: =Permits!B15 -> Sydney City Marine Rozelle | G18: =Permits!C15 -> Harbour Spirit | H18: =Permits!D15 -> Port Engine Room | I18: =Permits!E15 -> Closed
B19: =IF($I$195="Open",1,IF($I$195="Closed",0,"")) -> 0 | C19: =Permits!A16 -> 260819-02 | D19: =HYPERLINK("https:\\reflectionsdetailing.com.au\reflections\Confined Space Permits\20" & LEFT(C19,2) & " " & MID(C19, 3, 2) & "\" & LEFT(C19, 6) & "\" & C19 & ".pdf", "Open Permit") -> Open Permit | E19: =DATE("20"&LEFT(C19,2),MID(C19,3,2), MID(C19,5,2)) -> 46253 | F19: =Permits!B16 -> Sydney City Marine Rozelle | G19: =Permits!C16 -> Harbour Spirit | H19: =Permits!D16 -> Starboard Engine Room | I19: =Permits!E16 -> Closed
B20: =IF($I$194="Open",1,IF($I$194="Closed",0,"")) -> 0 | C20: =Permits!A17 -> 260819-01 | D20: =HYPERLINK("https:\\reflectionsdetailing.com.au\reflections\Confined Space Permits\20" & LEFT(C20,2) & " " & MID(C20, 3, 2) & "\" & LEFT(C20, 6) & "\" & C20 & ".pdf", "Open Permit") -> Open Permit | E20: =DATE("20"&LEFT(C20,2),MID(C20,3,2), MID(C20,5,2)) -> 46253 | F20: =Permits!B17 -> Sydney City Marine Rozelle | G20: =Permits!C17 -> Ocean Adventurer | H20: =Permits!D17 -> Starboard Fuel Void | I20: =Permits!E17 -> Closed
B21: =IF($I$193="Open",1,IF($I$193="Closed",0,"")) -> 0 | C21: =Permits!A18 -> 260818-02 | D21: =HYPERLINK("https:\\reflectionsdetailing.com.au\reflections\Confined Space Permits\20" & LEFT(C21,2) & " " & MID(C21, 3, 2) & "\" & LEFT(C21, 6) & "\" & C21 & ".pdf", "Open Permit") -> Open Permit | E21: =DATE("20"&LEFT(C21,2),MID(C21,3,2), MID(C21,5,2)) -> 46252 | F21: =Permits!B18 -> Sydney City Marine Rozelle | G21: =Permits!C18 -> Harbour Spirit | H21: =Permits!D18 -> Port Engine Room | I21: =Permits!E18 -> Closed
B22: =IF($I$192="Open",1,IF($I$192="Closed",0,"")) -> 0 | C22: =Permits!A19 -> 260818-01 | D22: =HYPERLINK("https:\\reflectionsdetailing.com.au\reflections\Confined Space Permits\20" & LEFT(C22,2) & " " & MID(C22, 3, 2) & "\" & LEFT(C22, 6) & "\" & C22 & ".pdf", "Open Permit") -> Open Permit | E22: =DATE("20"&LEFT(C22,2),MID(C22,3,2), MID(C22,5,2)) -> 46252 | F22: =Permits!B19 -> Sydney City Marine Rozelle | G22: =Permits!C19 -> Ocean Adventurer | H22: =Permits!D19 -> Starboard Fuel Void | I22: =Permits!E19 -> Closed
B23: =IF($I$191="Open",1,IF($I$191="Closed",0,"")) -> 0 | C23: =Permits!A20 -> 260817-02 | D23: =HYPERLINK("https:\\reflectionsdetailing.com.au\reflections\Confined Space Permits\20" & LEFT(C23,2) & " " & MID(C23, 3, 2) & "\" & LEFT(C23, 6) & "\" & C23 & ".pdf", "Open Permit") -> Open Permit | E23: =DATE("20"&LEFT(C23,2),MID(C23,3,2), MID(C23,5,2)) -> 46251 | F23: =Permits!B20 -> Sydney City Marine Rozelle | G23: =Permits!C20 -> Harbour Spirit | H23: =Permits!D20 -> Port Engine Room | I23: =Permits!E20 -> Closed
B24: =IF($I$190="Open",1,IF($I$190="Closed",0,"")) -> 0 | C24: =Permits!A21 -> 260817-01 | D24: =HYPERLINK("https:\\reflectionsdetailing.com.au\reflections\Confined Space Permits\20" & LEFT(C24,2) & " " & MID(C24, 3, 2) & "\" & LEFT(C24, 6) & "\" & C24 & ".pdf", "Open Permit") -> Open Permit | E24: =DATE("20"&LEFT(C24,2),MID(C24,3,2), MID(C24,5,2)) -> 46251 | F24: =Permits!B21 -> Sydney City Marine Rozelle | G24: =Permits!C21 -> Ocean Adventurer | H24: =Permits!D21 -> Starboard Fuel Void | I24: =Permits!E21 -> Closed
B25: =IF($I$189="Open",1,IF($I$189="Closed",0,"")) -> 0 | C25: =Permits!A22 -> 260815-01 | D25: =HYPERLINK("https:\\reflectionsdetailing.com.au\reflections\Confined Space Permits\20" & LEFT(C25,2) & " " & MID(C25, 3, 2) & "\" & LEFT(C25, 6) & "\" & C25 & ".pdf", "Open Permit") -> Open Permit | E25: =DATE("20"&LEFT(C25,2),MID(C25,3,2), MID(C25,5,2)) -> 46249 | F25: =Permits!B22 -> Sydney City Marine Rozelle | G25: =Permits!C22 -> Ocean Adventurer | H25: =Permits!D22 -> Starboard Fuel Void | I25: =Permits!E22 -> Closed
B26: =IF($I$188="Open",1,IF($I$188="Closed",0,"")) -> 0 | C26: =Permits!A23 -> 260814-01 | D26: =HYPERLINK("https:\\reflectionsdetailing.com.au\reflections\Confined Space Permits\20" & LEFT(C26,2) & " " & MID(C26, 3, 2) & "\" & LEFT(C26, 6) & "\" & C26 & ".pdf", "Open Permit") -> Open Permit | E26: =DATE("20"&LEFT(C26,2),MID(C26,3,2), MID(C26,5,2)) -> 46248 | F26: =Permits!B23 -> Sydney City Marine Rozelle | G26: =Permits!C23 -> Ocean Adventurer | H26: =Permits!D23 -> Starboard Fuel Void | I26: =Permits!E23 -> Closed
B27: =IF($I$187="Open",1,IF($I$187="Closed",0,"")) -> 0 | C27: =Permits!A24 -> 260813-01 | D27: =HYPERLINK("https:\\reflectionsdetailing.com.au\reflections\Confined Space Permits\20" & LEFT(C27,2) & " " & MID(C27, 3, 2) & "\" & LEFT(C27, 6) & "\" & C27 & ".pdf", "Open Permit") -> Open Permit | E27: =DATE("20"&LEFT(C27,2),MID(C27,3,2), MID(C27,5,2)) -> 46247 | F27: =Permits!B24 -> Sydney City Marine Rozelle | G27: =Permits!C24 -> Ocean Adventurer | H27: =Permits!D24 -> Starboard Fuel Void | I27: =Permits!E24 -> Closed
B28: =IF($I$186="Open",1,IF($I$186="Closed",0,"")) -> 0 | C28: =Permits!A25 -> 260812-01 | D28: =HYPERLINK("https:\\reflectionsdetailing.com.au\reflections\Confined Space Permits\20" & LEFT(C28,2) & " " & MID(C28, 3, 2) & "\" & LEFT(C28, 6) & "\" & C28 & ".pdf", "Open Permit") -> Open Permit | E28: =DATE("20"&LEFT(C28,2),MID(C28,3,2), MID(C28,5,2)) -> 46246 | F28: =Permits!B25 -> Sydney City Marine Rozelle | G28: =Permits!C25 -> Ocean Adventurer | H28: =Permits!D25 -> Starboard Fuel Void | I28: =Permits!E25 -> Closed
B29: =IF($I$185="Open",1,IF($I$185="Closed",0,"")) -> 0 | C29: =Permits!A26 -> 260811-01 | D29: =HYPERLINK("https:\\reflectionsdetailing.com.au\reflections\Confined Space Permits\20" & LEFT(C29,2) & " " & MID(C29, 3, 2) & "\" & LEFT(C29, 6) & "\" & C29 & ".pdf", "Open Permit") -> Open Permit | E29: =DATE("20"&LEFT(C29,2),MID(C29,3,2), MID(C29,5,2)) -> 46245 | F29: =Permits!B26 -> Sydney City Marine Rozelle | G29: =Permits!C26 -> Ocean Adventurer | H29: =Permits!D26 -> Starboard Fuel Void | I29: =Permits!E26 -> Closed
B30: =IF($I$184="Open",1,IF($I$184="Closed",0,"")) -> 0 | C30: =Permits!A27 -> 260810-01 | D30: =HYPERLINK("https:\\reflectionsdetailing.com.au\reflections\Confined Space Permits\20" & LEFT(C30,2) & " " & MID(C30, 3, 2) & "\" & LEFT(C30, 6) & "\" & C30 & ".pdf", "Open Permit") -> Open Permit | E30: =DATE("20"&LEFT(C30,2),MID(C30,3,2), MID(C30,5,2)) -> 46244 | F30: =Permits!B27 -> Sydney City Marine Rozelle | G30: =Permits!C27 -> Ocean Adventurer | H30: =Permits!D27 -> Starboard Fuel Void | I30: =Permits!E27 -> Closed
B31: =IF($I$183="Open",1,IF($I$183="Closed",0,"")) -> 0 | C31: =Permits!A28 -> 260808-01 | D31: =HYPERLINK("https:\\reflectionsdetailing.com.au\reflections\Confined Space Permits\20" & LEFT(C31,2) & " " & MID(C31, 3, 2) & "\" & LEFT(C31, 6) & "\" & C31 & ".pdf", "Open Permit") -> Open Permit | E31: =DATE("20"&LEFT(C31,2),MID(C31,3,2), MID(C31,5,2)) -> 46242 | F31: =Permits!B28 -> Sydney City Marine Rozelle | G31: =Permits!C28 -> Ocean Adventurer | H31: =Permits!D28 -> Starboard Fuel Void | I31: =Permits!E28 -> Closed
B32: =IF($I$182="Open",1,IF($I$182="Closed",0,"")) -> 0 | C32: =Permits!A29 -> 260807-01 | D32: =HYPERLINK("https:\\reflectionsdetailing.com.au\reflections\Confined Space Permits\20" & LEFT(C32,2) & " " & MID(C32, 3, 2) & "\" & LEFT(C32, 6) & "\" & C32 & ".pdf", "Open Permit") -> Open Permit | E32: =DATE("20"&LEFT(C32,2),MID(C32,3,2), MID(C32,5,2)) -> 46241 | F32: =Permits!B29 -> Sydney City Marine Rozelle | G32: =Permits!C29 -> Ocean Adventurer | H32: =Permits!D29 -> Starboard Fuel Void | I32: =Permits!E29 -> Closed
B33: =IF($I$181="Open",1,IF($I$181="Closed",0,"")) -> 0 | C33: =Permits!A30 -> 260721-06 | D33: =HYPERLINK("https:\\reflectionsdetailing.com.au\reflections\Confined Space Permits\20" & LEFT(C33,2) & " " & MID(C33, 3, 2) & "\" & LEFT(C33, 6) & "\" & C33 & ".pdf", "Open Permit") -> Open Permit | E33: =DATE("20"&LEFT(C33,2),MID(C33,3,2), MID(C33,5,2)) -> 46224 | F33: =Permits!B30 -> Sydney City Marine Rozelle | G33: =Permits!C30 -> FTL0473 | H33: =Permits!D30 -> Port Forward Void | I33: =Permits!E30 -> Closed
B34: =IF($I$180="Open",1,IF($I$180="Closed",0,"")) -> 0 | C34: =Permits!A31 -> 260721-05 | D34: =HYPERLINK("https:\\reflectionsdetailing.com.au\reflections\Confined Space Permits\20" & LEFT(C34,2) & " " & MID(C34, 3, 2) & "\" & LEFT(C34, 6) & "\" & C34 & ".pdf", "Open Permit") -> Open Permit | E34: =DATE("20"&LEFT(C34,2),MID(C34,3,2), MID(C34,5,2)) -> 46224 | F34: =Permits!B31 -> Sydney City Marine Rozelle | G34: =Permits!C31 -> FTL0473 | H34: =Permits!D31 -> Port Mid Void | I34: =Permits!E31 -> Closed
B35: =IF($I$179="Open",1,IF($I$179="Closed",0,"")) -> 0 | C35: =Permits!A32 -> 260721-04 | D35: =HYPERLINK("https:\\reflectionsdetailing.com.au\reflections\Confined Space Permits\20" & LEFT(C35,2) & " " & MID(C35, 3, 2) & "\" & LEFT(C35, 6) & "\" & C35 & ".pdf", "Open Permit") -> Open Permit | E35: =DATE("20"&LEFT(C35,2),MID(C35,3,2), MID(C35,5,2)) -> 46224 | F35: =Permits!B32 -> Sydney City Marine Rozelle | G35: =Permits!C32 -> FTL0473 | H35: =Permits!D32 -> Port Aft Void | I35: =Permits!E32 -> Closed
B36: =IF($I$178="Open",1,IF($I$178="Closed",0,"")) -> 0 | C36: =Permits!A33 -> 260721-03 | D36: =HYPERLINK("https:\\reflectionsdetailing.com.au\reflections\Confined Space Permits\20" & LEFT(C36,2) & " " & MID(C36, 3, 2) & "\" & LEFT(C36, 6) & "\" & C36 & ".pdf", "Open Permit") -> Open Permit | E36: =DATE("20"&LEFT(C36,2),MID(C36,3,2), MID(C36,5,2)) -> 46224 | F36: =Permits!B33 -> Sydney City Marine Rozelle | G36: =Permits!C33 -> FTL0473 | H36: =Permits!D33 -> Starboard Aft Void | I36: =Permits!E33 -> Closed
B37: =IF($I$177="Open",1,IF($I$177="Closed",0,"")) -> 0 | C37: =Permits!A34 -> 260721-02 | D37: =HYPERLINK("https:\\reflectionsdetailing.com.au\reflections\Confined Space Permits\20" & LEFT(C37,2) & " " & MID(C37, 3, 2) & "\" & LEFT(C37, 6) & "\" & C37 & ".pdf", "Open Permit") -> Open Permit | E37: =DATE("20"&LEFT(C37,2),MID(C37,3,2), MID(C37,5,2)) -> 46224 | F37: =Permits!B34 -> Sydney City Marine Rozelle | G37: =Permits!C34 -> FTL0473 | H37: =Permits!D34 -> Starboard Mid Void | I37: =Permits!E34 -> Closed
B38: =IF($I$176="Open",1,IF($I$176="Closed",0,"")) -> 0 | C38: =Permits!A35 -> 260721-01 | D38: =HYPERLINK("https:\\reflectionsdetailing.com.au\reflections\Confined Space Permits\20" & LEFT(C38,2) & " " & MID(C38, 3, 2) & "\" & LEFT(C38, 6) & "\" & C38 & ".pdf", "Open Permit") -> Open Permit | E38: =DATE("20"&LEFT(C38,2),MID(C38,3,2), MID(C38,5,2)) -> 46224 | F38: =Permits!B35 -> Sydney City Marine Rozelle | G38: =Permits!C35 -> FTL0473 | H38: =Permits!D35 -> Starboard Forward Void | I38: =Permits!E35 -> Closed
B39: =IF($I$175="Open",1,IF($I$175="Closed",0,"")) -> 0 | C39: =Permits!A36 -> 260720-06 | D39: =HYPERLINK("https:\\reflectionsdetailing.com.au\reflections\Confined Space Permits\20" & LEFT(C39,2) & " " & MID(C39, 3, 2) & "\" & LEFT(C39, 6) & "\" & C39 & ".pdf", "Open Permit") -> Open Permit | E39: =DATE("20"&LEFT(C39,2),MID(C39,3,2), MID(C39,5,2)) -> 46223 | F39: =Permits!B36 -> Sydney City Marine Rozelle | G39: =Permits!C36 -> FTL0473 | H39: =Permits!D36 -> Starboard Forward Void | I39: =Permits!E36 -> Closed
B40: =IF($I$174="Open",1,IF($I$174="Closed",0,"")) -> 0 | C40: =Permits!A37 -> 260720-05 | D40: =HYPERLINK("https:\\reflectionsdetailing.com.au\reflections\Confined Space Permits\20" & LEFT(C40,2) & " " & MID(C40, 3, 2) & "\" & LEFT(C40, 6) & "\" & C40 & ".pdf", "Open Permit") -> Open Permit | E40: =DATE("20"&LEFT(C40,2),MID(C40,3,2), MID(C40,5,2)) -> 46223 | F40: =Permits!B37 -> Sydney City Marine Rozelle | G40: =Permits!C37 -> FTL0473 | H40: =Permits!D37 -> Starboard Mid Void | I40: =Permits!E37 -> Closed
B41: =IF($I$173="Open",1,IF($I$173="Closed",0,"")) -> 0 | C41: =Permits!A38 -> 260720-04 | D41: =HYPERLINK("https:\\reflectionsdetailing.com.au\reflections\Confined Space Permits\20" & LEFT(C41,2) & " " & MID(C41, 3, 2) & "\" & LEFT(C41, 6) & "\" & C41 & ".pdf", "Open Permit") -> Open Permit | E41: =DATE("20"&LEFT(C41,2),MID(C41,3,2), MID(C41,5,2)) -> 46223 | F41: =Permits!B38 -> Sydney City Marine Rozelle | G41: =Permits!C38 -> FTL0473 | H41: =Permits!D38 -> Starboard Aft Void | I41: =Permits!E38 -> Closed
B42: =IF($I$172="Open",1,IF($I$172="Closed",0,"")) -> 0 | C42: =Permits!A39 -> 260720-03 | D42: =HYPERLINK("https:\\reflectionsdetailing.com.au\reflections\Confined Space Permits\20" & LEFT(C42,2) & " " & MID(C42, 3, 2) & "\" & LEFT(C42, 6) & "\" & C42 & ".pdf", "Open Permit") -> Open Permit | E42: =DATE("20"&LEFT(C42,2),MID(C42,3,2), MID(C42,5,2)) -> 46223 | F42: =Permits!B39 -> Sydney City Marine Rozelle | G42: =Permits!C39 -> FTL0473 | H42: =Permits!D39 -> Port Aft Void | I42: =Permits!E39 -> Closed
B43: =IF($I$171="Open",1,IF($I$171="Closed",0,"")) -> 0 | C43: =Permits!A40 -> 260720-02 | D43: =HYPERLINK("https:\\reflectionsdetailing.com.au\reflections\Confined Space Permits\20" & LEFT(C43,2) & " " & MID(C43, 3, 2) & "\" & LEFT(C43, 6) & "\" & C43 & ".pdf", "Open Permit") -> Open Permit | E43: =DATE("20"&LEFT(C43,2),MID(C43,3,2), MID(C43,5,2)) -> 46223 | F43: =Permits!B40 -> Sydney City Marine Rozelle | G43: =Permits!C40 -> FTL0473 | H43: =Permits!D40 -> Port Mid Void | I43: =Permits!E40 -> Closed
B44: =IF($I$170="Open",1,IF($I$170="Closed",0,"")) -> 0 | C44: =Permits!A41 -> 260720-01 | D44: =HYPERLINK("https:\\reflectionsdetailing.com.au\reflections\Confined Space Permits\20" & LEFT(C44,2) & " " & MID(C44, 3, 2) & "\" & LEFT(C44, 6) & "\" & C44 & ".pdf", "Open Permit") -> Open Permit | E44: =DATE("20"&LEFT(C44,2),MID(C44,3,2), MID(C44,5,2)) -> 46223 | F44: =Permits!B41 -> Sydney City Marine Rozelle | G44: =Permits!C41 -> FTL0473 | H44: =Permits!D41 -> Port Forward Void | I44: =Permits!E41 -> Closed
B45: =IF($I$169="Open",1,IF($I$169="Closed",0,"")) -> 0 | C45: =Permits!A42 -> 260630-01 | D45: =HYPERLINK("https:\\reflectionsdetailing.com.au\reflections\Confined Space Permits\20" & LEFT(C45,2) & " " & MID(C45, 3, 2) & "\" & LEFT(C45, 6) & "\" & C45 & ".pdf", "Open Permit") -> Open Permit | E45: =DATE("20"&LEFT(C45,2),MID(C45,3,2), MID(C45,5,2)) -> 46203 | F45: =Permits!B42 -> Sydney City Marine Rozelle | G45: =Permits!C42 -> Captain Cook III | H45: =Permits!D42 -> Forward Void | I45: =Permits!E42 -> Closed
B46: =IF($I$168="Open",1,IF($I$168="Closed",0,"")) -> 0 | C46: =Permits!A43 -> 260629-01 | D46: =HYPERLINK("https:\\reflectionsdetailing.com.au\reflections\Confined Space Permits\20" & LEFT(C46,2) & " " & MID(C46, 3, 2) & "\" & LEFT(C46, 6) & "\" & C46 & ".pdf", "Open Permit") -> Open Permit | E46: =DATE("20"&LEFT(C46,2),MID(C46,3,2), MID(C46,5,2)) -> 46202 | F46: =Permits!B43 -> Sydney City Marine Rozelle | G46: =Permits!C43 -> Captain Cook III | H46: =Permits!D43 -> Forward Void | I46: =Permits!E43 -> Closed
B47: =IF($I$167="Open",1,IF($I$167="Closed",0,"")) -> 0 | C47: =Permits!A44 -> 260609-07 | D47: =HYPERLINK("https:\\reflectionsdetailing.com.au\reflections\Confined Space Permits\20" & LEFT(C47,2) & " " & MID(C47, 3, 2) & "\" & LEFT(C47, 6) & "\" & C47 & ".pdf", "Open Permit") -> Open Permit | E47: =DATE("20"&LEFT(C47,2),MID(C47,3,2), MID(C47,5,2)) -> 46182 | F47: =Permits!B44 -> Sydney City Marine Rozelle | G47: =Permits!C44 -> Burra | H47: =Permits!D44 -> Fore Peak Void | I47: =Permits!E44 -> Closed
B48: =IF($I$166="Open",1,IF($I$166="Closed",0,"")) -> 0 | C48: =Permits!A45 -> 260609-06 | D48: =HYPERLINK("https:\\reflectionsdetailing.com.au\reflections\Confined Space Permits\20" & LEFT(C48,2) & " " & MID(C48, 3, 2) & "\" & LEFT(C48, 6) & "\" & C48 & ".pdf", "Open Permit") -> Open Permit | E48: =DATE("20"&LEFT(C48,2),MID(C48,3,2), MID(C48,5,2)) -> 46182 | F48: =Permits!B45 -> Sydney City Marine Rozelle | G48: =Permits!C45 -> FTL0015 | H48: =Permits!D45 -> Port Forward Void | I48: =Permits!E45 -> Closed
B49: =IF($I$165="Open",1,IF($I$165="Closed",0,"")) -> 0 | C49: =Permits!A46 -> 260609-05 | D49: =HYPERLINK("https:\\reflectionsdetailing.com.au\reflections\Confined Space Permits\20" & LEFT(C49,2) & " " & MID(C49, 3, 2) & "\" & LEFT(C49, 6) & "\" & C49 & ".pdf", "Open Permit") -> Open Permit | E49: =DATE("20"&LEFT(C49,2),MID(C49,3,2), MID(C49,5,2)) -> 46182 | F49: =Permits!B46 -> Sydney City Marine Rozelle | G49: =Permits!C46 -> FTL0015 | H49: =Permits!D46 -> Port Mid Void | I49: =Permits!E46 -> Closed
B50: =IF($I$164="Open",1,IF($I$164="Closed",0,"")) -> 0 | C50: =Permits!A47 -> 260609-04 | D50: =HYPERLINK("https:\\reflectionsdetailing.com.au\reflections\Confined Space Permits\20" & LEFT(C50,2) & " " & MID(C50, 3, 2) & "\" & LEFT(C50, 6) & "\" & C50 & ".pdf", "Open Permit") -> Open Permit | E50: =DATE("20"&LEFT(C50,2),MID(C50,3,2), MID(C50,5,2)) -> 46182 | F50: =Permits!B47 -> Sydney City Marine Rozelle | G50: =Permits!C47 -> FTL0015 | H50: =Permits!D47 -> Port Aft Void | I50: =Permits!E47 -> Closed
B51: =IF(I51="Open",1,IF(I51="Closed",0,"")) -> 0 | C51: =Permits!A48 -> 260609-03 | D51: =HYPERLINK("https:\\reflectionsdetailing.com.au\reflections\Confined Space Permits\20" & LEFT(C51,2) & " " & MID(C51, 3, 2) & "\" & LEFT(C51, 6) & "\" & C51 & ".pdf", "Open Permit") -> Open Permit | E51: =DATE("20"&LEFT(C51,2),MID(C51,3,2), MID(C51,5,2)) -> 46182 | F51: =Permits!B48 -> Sydney City Marine Rozelle | G51: =Permits!C48 -> FTL0015 | H51: =Permits!D48 -> Starboard Aft Void | I51: =Permits!E48 -> Closed
B52: =IF(I52="Open",1,IF(I52="Closed",0,"")) -> 0 | C52: =Permits!A49 -> 260609-02 | D52: =HYPERLINK("https:\\reflectionsdetailing.com.au\reflections\Confined Space Permits\20" & LEFT(C52,2) & " " & MID(C52, 3, 2) & "\" & LEFT(C52, 6) & "\" & C52 & ".pdf", "Open Permit") -> Open Permit | E52: =DATE("20"&LEFT(C52,2),MID(C52,3,2), MID(C52,5,2)) -> 46182 | F52: =Permits!B49 -> Sydney City Marine Rozelle | G52: =Permits!C49 -> FTL0015 | H52: =Permits!D49 -> Starboard Mid Void | I52: =Permits!E49 -> Closed
B53: =IF(I53="Open",1,IF(I53="Closed",0,"")) -> 0 | C53: =Permits!A50 -> 260609-01 | D53: =HYPERLINK("https:\\reflectionsdetailing.com.au\reflections\Confined Space Permits\20" & LEFT(C53,2) & " " & MID(C53, 3, 2) & "\" & LEFT(C53, 6) & "\" & C53 & ".pdf", "Open Permit") -> Open Permit | E53: =DATE("20"&LEFT(C53,2),MID(C53,3,2), MID(C53,5,2)) -> 46182 | F53: =Permits!B50 -> Sydney City Marine Rozelle | G53: =Permits!C50 -> FTL0015 | H53: =Permits!D50 -> Starboard Forward Void | I53: =Permits!E50 -> Closed
B54: =IF(I54="Open",1,IF(I54="Closed",0,"")) -> 0 | C54: =Permits!A51 -> 260605-07 | D54: =HYPERLINK("https:\\reflectionsdetailing.com.au\reflections\Confined Space Permits\20" & LEFT(C54,2) & " " & MID(C54, 3, 2) & "\" & LEFT(C54, 6) & "\" & C54 & ".pdf", "Open Permit") -> Open Permit | E54: =DATE("20"&LEFT(C54,2),MID(C54,3,2), MID(C54,5,2)) -> 46178 | F54: =Permits!B51 -> Sydney City Marine Rozelle | G54: =Permits!C51 -> FTL0015 | H54: =Permits!D51 -> Starboard Forward Void | I54: =Permits!E51 -> Closed
B55: =IF(I55="Open",1,IF(I55="Closed",0,"")) -> 0 | C55: =Permits!A52 -> 260605-06 | D55: =HYPERLINK("https:\\reflectionsdetailing.com.au\reflections\Confined Space Permits\20" & LEFT(C55,2) & " " & MID(C55, 3, 2) & "\" & LEFT(C55, 6) & "\" & C55 & ".pdf", "Open Permit") -> Open Permit | E55: =DATE("20"&LEFT(C55,2),MID(C55,3,2), MID(C55,5,2)) -> 46178 | F55: =Permits!B52 -> Sydney City Marine Rozelle | G55: =Permits!C52 -> FTL0015 | H55: =Permits!D52 -> Starboard Mid Void | I55: =Permits!E52 -> Closed
B56: =IF(I56="Open",1,IF(I56="Closed",0,"")) -> 0 | C56: =Permits!A53 -> 260605-05 | D56: =HYPERLINK("https:\\reflectionsdetailing.com.au\reflections\Confined Space Permits\20" & LEFT(C56,2) & " " & MID(C56, 3, 2) & "\" & LEFT(C56, 6) & "\" & C56 & ".pdf", "Open Permit") -> Open Permit | E56: =DATE("20"&LEFT(C56,2),MID(C56,3,2), MID(C56,5,2)) -> 46178 | F56: =Permits!B53 -> Sydney City Marine Rozelle | G56: =Permits!C53 -> FTL0015 | H56: =Permits!D53 -> Starboard Aft Void | I56: =Permits!E53 -> Closed
B57: =IF(I57="Open",1,IF(I57="Closed",0,"")) -> 0 | C57: =Permits!A54 -> 260605-04 | D57: =HYPERLINK("https:\\reflectionsdetailing.com.au\reflections\Confined Space Permits\20" & LEFT(C57,2) & " " & MID(C57, 3, 2) & "\" & LEFT(C57, 6) & "\" & C57 & ".pdf", "Open Permit") -> Open Permit | E57: =DATE("20"&LEFT(C57,2),MID(C57,3,2), MID(C57,5,2)) -> 46178 | F57: =Permits!B54 -> Sydney City Marine Rozelle | G57: =Permits!C54 -> FTL0015 | H57: =Permits!D54 -> Port Aft Void | I57: =Permits!E54 -> Closed
B58: =IF(I58="Open",1,IF(I58="Closed",0,"")) -> 0 | C58: =Permits!A55 -> 260605-03 | D58: =HYPERLINK("https:\\reflectionsdetailing.com.au\reflections\Confined Space Permits\20" & LEFT(C58,2) & " " & MID(C58, 3, 2) & "\" & LEFT(C58, 6) & "\" & C58 & ".pdf", "Open Permit") -> Open Permit | E58: =DATE("20"&LEFT(C58,2),MID(C58,3,2), MID(C58,5,2)) -> 46178 | F58: =Permits!B55 -> Sydney City Marine Rozelle | G58: =Permits!C55 -> FTL0015 | H58: =Permits!D55 -> Port Mid Void | I58: =Permits!E55 -> Closed
B59: =IF(I59="Open",1,IF(I59="Closed",0,"")) -> 0 | C59: =Permits!A56 -> 260605-02 | D59: =HYPERLINK("https:\\reflectionsdetailing.com.au\reflections\Confined Space Permits\20" & LEFT(C59,2) & " " & MID(C59, 3, 2) & "\" & LEFT(C59, 6) & "\" & C59 & ".pdf", "Open Permit") -> Open Permit | E59: =DATE("20"&LEFT(C59,2),MID(C59,3,2), MID(C59,5,2)) -> 46178 | F59: =Permits!B56 -> Sydney City Marine Rozelle | G59: =Permits!C56 -> FTL0015 | H59: =Permits!D56 -> Port Forward Void | I59: =Permits!E56 -> Closed
B60: =IF(I60="Open",1,IF(I60="Closed",0,"")) -> 0 | C60: =Permits!A57 -> 260605-01 | D60: =HYPERLINK("https:\\reflectionsdetailing.com.au\reflections\Confined Space Permits\20" & LEFT(C60,2) & " " & MID(C60, 3, 2) & "\" & LEFT(C60, 6) & "\" & C60 & ".pdf", "Open Permit") -> Open Permit | E60: =DATE("20"&LEFT(C60,2),MID(C60,3,2), MID(C60,5,2)) -> 46178 | F60: =Permits!B57 -> Sydney City Marine Rozelle | G60: =Permits!C57 -> Red Viper | H60: =Permits!D57 -> Chain Locker | I60: =Permits!E57 -> Closed
B61: =IF(I61="Open",1,IF(I61="Closed",0,"")) -> 0 | C61: =Permits!A58 -> 260529-02 | D61: =HYPERLINK("https:\\reflectionsdetailing.com.au\reflections\Confined Space Permits\20" & LEFT(C61,2) & " " & MID(C61, 3, 2) & "\" & LEFT(C61, 6) & "\" & C61 & ".pdf", "Open Permit") -> Open Permit | E61: =DATE("20"&LEFT(C61,2),MID(C61,3,2), MID(C61,5,2)) -> 46171 | F61: =Permits!B58 -> Sydney City Marine Rozelle | G61: =Permits!C58 -> Ocean Surfer | H61: =Permits!D58 -> Starboard Fuel Void | I61: =Permits!E58 -> Closed
B62: =IF(I62="Open",1,IF(I62="Closed",0,"")) -> 0 | C62: =Permits!A59 -> 260529-01 | D62: =HYPERLINK("https:\\reflectionsdetailing.com.au\reflections\Confined Space Permits\20" & LEFT(C62,2) & " " & MID(C62, 3, 2) & "\" & LEFT(C62, 6) & "\" & C62 & ".pdf", "Open Permit") -> Open Permit | E62: =DATE("20"&LEFT(C62,2),MID(C62,3,2), MID(C62,5,2)) -> 46171 | F62: =Permits!B59 -> Sydney City Marine Rozelle | G62: =Permits!C59 -> Ocean Surfer | H62: =Permits!D59 -> Port Fuel Void | I62: =Permits!E59 -> Closed
... B209: =IF(I209="Open",1,IF(I209="Closed",0,"")) -> 0 | C209: =Permits!A206 -> 251104-01 | D209: =HYPERLINK("https:\\reflectionsdetailing.com.au\reflections\Confined Space Permits\20" & LEFT(C209,2) & " " & MID(C209, 3, 2) & "\" & LEFT(C209, 6) & "\" & C209 & ".pdf", "Open Permit") -> Open Permit | E209: =DATE("20"&LEFT(C209,2),MID(C209,3,2), MID(C209,5,2)) -> 45965 | F209: =Permits!B206 -> Sydney City Marine Rozelle | G209: =Permits!C206 -> Ocean Tracker | H209: =Permits!D206 -> Starboard Engine Room | I209: =Permits!E206 -> Closed
B210: =IF(I210="Open",1,IF(I210="Closed",0,"")) -> 0 | C210: =Permits!A207 -> 251103-03 | E210: =DATE("20"&LEFT(C210,2),MID(C210,3,2), MID(C210,5,2)) -> 45964 | F210: =Permits!B207 -> Sydney City Marine Rozelle | G210: =Permits!C207 -> Ocean Tracker | H210: =Permits!D207 -> Port Steering Compartment | I210: =Permits!E207 -> Closed
B211: =IF(I211="Open",1,IF(I211="Closed",0,"")) -> 0 | C211: =Permits!A208 -> 251103-02 | E211: =DATE("20"&LEFT(C211,2),MID(C211,3,2), MID(C211,5,2)) -> 45964 | F211: =Permits!B208 -> Sydney City Marine Rozelle | G211: =Permits!C208 -> Ocean Tracker | H211: =Permits!D208 -> Port Engine Room | I211: =Permits!E208 -> Closed
B212: =IF(I212="Open",1,IF(I212="Closed",0,"")) -> 0 | C212: =Permits!A209 -> 251103-01 | E212: =DATE("20"&LEFT(C212,2),MID(C212,3,2), MID(C212,5,2)) -> 45964 | F212: =Permits!B209 -> Sydney City Marine Rozelle | G212: =Permits!C209 -> Ocean Tracker | H212: =Permits!D209 -> Starboard Engine Room | I212: =Permits!E209 -> Closed
B213: =IF(I213="Open",1,IF(I213="Closed",0,"")) -> 0 | C213: =Permits!A210 -> 251101-03 | E213: =DATE("20"&LEFT(C213,2),MID(C213,3,2), MID(C213,5,2)) -> 45962 | F213: =Permits!B210 -> Sydney City Marine Rozelle | G213: =Permits!C210 -> Ocean Tracker | H213: =Permits!D210 -> Port Engine Room | I213: =Permits!E210 -> Closed
B214: =IF(I214="Open",1,IF(I214="Closed",0,"")) -> 0 | C214: =Permits!A211 -> 251101-02 | E214: =DATE("20"&LEFT(C214,2),MID(C214,3,2), MID(C214,5,2)) -> 45962 | F214: =Permits!B211 -> Sydney City Marine Rozelle | G214: =Permits!C211 -> Ocean Tracker | H214: =Permits!D211 -> Starboard Fuel Void | I214: =Permits!E211 -> Closed
B215: =IF(I215="Open",1,IF(I215="Closed",0,"")) -> 0 | C215: =Permits!A212 -> 251101-01 | E215: =DATE("20"&LEFT(C215,2),MID(C215,3,2), MID(C215,5,2)) -> 45962 | F215: =Permits!B212 -> Sydney City Marine Rozelle | G215: =Permits!C212 -> Ocean Tracker | H215: =Permits!D212 -> Starboard Engine Room | I215: =Permits!E212 -> Closed
B216: =IF(I216="Open",1,IF(I216="Closed",0,"")) -> 0 | C216: =Permits!A213 -> 251031-02 | E216: =DATE("20"&LEFT(C216,2),MID(C216,3,2), MID(C216,5,2)) -> 45961 | F216: =Permits!B213 -> Sydney City Marine Rozelle | G216: =Permits!C213 -> Ocean Tracker | H216: =Permits!D213 -> Port Forward Void | I216: =Permits!E213 -> Closed
B217: =IF(I217="Open",1,IF(I217="Closed",0,"")) -> 0 | C217: =Permits!A214 -> 251031-01 | E217: =DATE("20"&LEFT(C217,2),MID(C217,3,2), MID(C217,5,2)) -> 45961 | F217: =Permits!B214 -> Sydney City Marine Rozelle | G217: =Permits!C214 -> Ocean Tracker | H217: =Permits!D214 -> Starboard Forward Void | I217: =Permits!E214 -> Closed
B218: =IF(I218="Open",1,IF(I218="Closed",0,"")) -> 0 | C218: =Permits!A215 -> 251030-01 | E218: =DATE("20"&LEFT(C218,2),MID(C218,3,2), MID(C218,5,2)) -> 45960 | F218: =Permits!B215 -> Sydney City Marine Rozelle | G218: =Permits!C215 -> Ocean Tracker | H218: =Permits!D215 -> Starboard Fuel Void | I218: =Permits!E215 -> Closed
B219: =IF(I219="Open",1,IF(I219="Closed",0,"")) -> 0 | C219: =Permits!A216 -> 251029-01 | E219: =DATE("20"&LEFT(C219,2),MID(C219,3,2), MID(C219,5,2)) -> 45959 | F219: =Permits!B216 -> Sydney City Marine Rozelle | G219: =Permits!C216 -> Ocean Tracker | H219: =Permits!D216 -> Starboard Fuel Void | I219: =Permits!E216 -> Closed
B220: =IF(I220="Open",1,IF(I220="Closed",0,"")) | C220: =Permits!A217 -> 0 | E220: =DATE("20"&LEFT(C220,2),MID(C220,3,2), MID(C220,5,2)) -> #VALUE! | F220: =Permits!B217 -> 0 | G220: =Permits!C217 -> 0 | H220: =Permits!D217 -> 0 | I220: =Permits!E217 -> 0
B221: =IF(I221="Open",1,IF(I221="Closed",0,"")) | C221: =Permits!A218 -> 0 | E221: =DATE("20"&LEFT(C221,2),MID(C221,3,2), MID(C221,5,2)) -> #VALUE! | F221: =Permits!B218 -> 0 | G221: =Permits!C218 -> 0 | H221: =Permits!D218 -> 0 | I221: =Permits!E218 -> 0
B222: =IF(I222="Open",1,IF(I222="Closed",0,"")) | C222: =Permits!A219 -> 0 | E222: =DATE("20"&LEFT(C222,2),MID(C222,3,2), MID(C222,5,2)) -> #VALUE! | F222: =Permits!B219 -> 0 | G222: =Permits!C219 -> 0 | H222: =Permits!D219 -> 0 | I222: =Permits!E219 -> 0
C223: =Permits!A220 -> 0 | E223: =DATE("20"&LEFT(C223,2),MID(C223,3,2), MID(C223,5,2)) -> #VALUE! | F223: =Permits!B220 -> 0 | G223: =Permits!C220 -> 0 | H223: =Permits!D220 -> 0 | I223: =Permits!E220 -> 0
C224: =Permits!A221 -> 0 | E224: =DATE("20"&LEFT(C224,2),MID(C224,3,2), MID(C224,5,2)) -> #VALUE! | F224: =Permits!B221 -> 0 | G224: =Permits!C221 -> 0 | H224: =Permits!D221 -> 0 | I224: =Permits!E221 -> 0
C225: =Permits!A222 -> 0 | E225: =DATE("20"&LEFT(C225,2),MID(C225,3,2), MID(C225,5,2)) -> #VALUE! | F225: =Permits!B222 -> 0 | G225: =Permits!C222 -> 0 | H225: =Permits!D222 -> 0 | I225: =Permits!E222 -> 0
C226: =Permits!A223 -> 0 | E226: =DATE("20"&LEFT(C226,2),MID(C226,3,2), MID(C226,5,2)) -> #VALUE! | F226: =Permits!B223 -> 0 | G226: =Permits!C223 -> 0 | H226: =Permits!D223 -> 0 | I226: =Permits!E223 -> 0
C227: =Permits!A224 -> 0 | E227: =DATE("20"&LEFT(C227,2),MID(C227,3,2), MID(C227,5,2)) -> #VALUE! | F227: =Permits!B224 -> 0 | G227: =Permits!C224 -> 0 | H227: =Permits!D224 -> 0 | I227: =Permits!E224 -> 0
C228: =Permits!A225 -> 0 | E228: =DATE("20"&LEFT(C228,2),MID(C228,3,2), MID(C228,5,2)) -> #VALUE! | F228: =Permits!B225 -> 0 | G228: =Permits!C225 -> 0 | H228: =Permits!D225 -> 0 | I228: =Permits!E225 -> 0
C229: =Permits!A226 -> 0 | E229: =DATE("20"&LEFT(C229,2),MID(C229,3,2), MID(C229,5,2)) -> #VALUE! | F229: =Permits!B226 -> 0 | G229: =Permits!C226 -> 0 | H229: =Permits!D226 -> 0 | I229: =Permits!E226 -> 0
C230: =Permits!A227 -> 0 | E230: =DATE("20"&LEFT(C230,2),MID(C230,3,2), MID(C230,5,2)) -> #VALUE! | F230: =Permits!B227 -> 0 | G230: =Permits!C227 -> 0 | H230: =Permits!D227 -> 0 | I230: =Permits!E227 -> 0
C231: =Permits!A228 -> 0 | E231: =DATE("20"&LEFT(C231,2),MID(C231,3,2), MID(C231,5,2)) -> #VALUE! | F231: =Permits!B228 -> 0 | G231: =Permits!C228 -> 0 | H231: =Permits!D228 -> 0 | I231: =Permits!E228 -> 0
C232: =Permits!A229 -> 0 | E232: =DATE("20"&LEFT(C232,2),MID(C232,3,2), MID(C232,5,2)) -> #VALUE! | F232: =Permits!B229 -> 0 | G232: =Permits!C229 -> 0 | H232: =Permits!D229 -> 0 | I232: =Permits!E229 -> 0
C233: =Permits!A230 -> 0 | E233: =DATE("20"&LEFT(C233,2),MID(C233,3,2), MID(C233,5,2)) -> #VALUE! | F233: =Permits!B230 -> 0 | G233: =Permits!C230 -> 0 | H233: =Permits!D230 -> 0 | I233: =Permits!E230 -> 0
C234: =Permits!A231 -> 0 | E234: =DATE("20"&LEFT(C234,2),MID(C234,3,2), MID(C234,5,2)) -> #VALUE! | F234: =Permits!B231 -> 0 | G234: =Permits!C231 -> 0 | H234: =Permits!D231 -> 0 | I234: =Permits!E231 -> 0
... C500: =Permits!A497 -> 0 | E500: =DATE("20"&LEFT(C500,2),MID(C500,3,2), MID(C500,5,2)) -> #VALUE! | F500: =Permits!B497 -> 0 | G500: =Permits!C497 -> 0 | H500: =Permits!D497 -> 0 | I500: =Permits!E497 -> 0

Sheet Permits
A2: 261019-02 | B2: Sydney City Marine Rozelle | C2: Shortland | D2: Port Engine Room | E2: Closed | F2: 2026-10-20 07:34:07
A3: 261019-01 | B3: Sydney City Marine Rozelle | C3: Shortland | D3: Starboard Aft Void | E3: Closed | F3: 2026-10-19 14:55:41
A4: 260909-02 | B4: Sydney City Marine Rozelle | C4: Kokomo | D4: Starboard Fresh Water Tank | E4: Closed | F4: 2026-09-18 13:32:56
A5: 260909-01 | B5: Sydney City Marine Rozelle | C5: Kokomo | D5: Port Fresh Water Tank | E5: Closed | F5: 2026-09-18 13:29:36
A6: 260907-02 | B6: Port Botany | C6: Hellfire Bay | D6: Port Aft Ballast Tank | E6: Closed | F6: 2026-09-18 13:28:18
A7: 260907-01 | B7: Port Botany | C7: Hellfire Bay | D7: Forward Ballast Tank | E7: Closed | F7: 2026-09-18 13:22:50
A8: 260902-06 | B8: Sydney City Marine | C8: Beatrice Bush | D8: Ballast Tank Comp 1 | E8: Closed | F8: 2026-09-17 16:41:36
A9: 260902-05 | B9: Sydney City Marine | C9: Beatrice Bush | D9: Ballast Tank Comp 4 | E9: Closed | F9: 2026-09-17 16:41:00
A10: 260902-04 | B10: Sydney City Marine | C10: Beatrice Bush | D10: Ballast Tank Comp 7 | E10: Closed | F10: 2026-09-17 16:39:56
A11: 260902-03 | B11: Sydney City Marine | C11: Beatrice Bush | D11: Ballast Tank Comp 8 | E11: Closed | F11: 2026-09-17 16:39:21
A12: 260902-02 | B12: Sydney City Marine | C12: Beatrice Bush | D12: Ballast Tank Comp 5 | E12: Closed | F12: 2026-09-17 16:38:50
A13: 260902-01 | B13: Sydney City Marine | C13: Beatrice Bush | D13: Ballast Tank Comp 2 | E13: Closed | F13: 2026-09-17 16:38:22
A14: 260824-01 | B14: Sydney City Marine Rozelle | C14: Ocean Adventurer | D14: Starboard Engine Room | E14: Closed
A15: 260821-01 | B15: Sydney City Marine Rozelle | C15: Ocean Adventurer | D15: Starboard Engine Room | E15: Closed
A16: 260820-01 | B16: Sydney City Marine Rozelle | C16: Ocean Adventurer | D16: Starboard Engine Room | E16: Closed
A17: 260819-03 | B17: Sydney City Marine Rozelle | C17: Harbour Spirit | D17: Port Engine Room | E17: Closed
A18: 260819-02 | B18: Sydney City Marine Rozelle | C18: Harbour Spirit | D18: Starboard Engine Room | E18: Closed
A19: 260819-01 | B19: Sydney City Marine Rozelle | C19: Ocean Adventurer | D19: Starboard Fuel Void | E19: Closed
A20: 260818-02 | B20: Sydney City Marine Rozelle | C20: Harbour Spirit | D20: Port Engine Room | E20: Closed
A21: 260818-01 | B21: Sydney City Marine Rozelle | C21: Ocean Adventurer | D21: Starboard Fuel Void | E21: Closed
A22: 260817-02 | B22: Sydney City Marine Rozelle | C22: Harbour Spirit | D22: Port Engine Room | E22: Closed
A23: 260817-01 | B23: Sydney City Marine Rozelle | C23: Ocean Adventurer | D23: Starboard Fuel Void | E23: Closed
A24: 260815-01 | B24: Sydney City Marine Rozelle | C24: Ocean Adventurer | D24: Starboard Fuel Void | E24: Closed
A25: 260814-01 | B25: Sydney City Marine Rozelle | C25: Ocean Adventurer | D25: Starboard Fuel Void | E25: Closed
... A218: 251029-01 | B218: Sydney City Marine Rozelle | C218: Ocean Tracker | D218: Starboard Fuel Void | E218: Closed
