Workbook
Name Permits: Permits!$A$2:$E$207
Name Table: 'Confined Space Register'!$B$2:$I$216

Sheet Confined Space Register
B2: Confined Space Permits Register
C4: Permit Number | D4: Open Permit | E4: Date | F4: Geo Location | G4: Vessel | H4: Confined Space Location | I4: Open/Closed
B5: =IF(I5="Open",1,IF(I5="Closed",0,"")) -> 0 | C5: =Permits!A2 -> 260909-02 | D5: =HYPERLINK("https:\\reflectionsdetailing.com.au\reflections\Confined Space Permits\20" & LEFT(C5,2) & " " & MID(C5, 3, 2) & "\" & LEFT(C5, 6) & "\" & C5 & ".pdf", "Open Permit") -> Open Permit | E5: =DATE("20"&LEFT(C5,2),MID(C5,3,2), MID(C5,5,2)) -> 46274 | F5: =Permits!B2 -> Sydney City Marine Rozelle | G5: =Permits!C2 -> Kokomo | H5: =Permits!D2 -> Starboard Fresh Water Tank | I5: =Permits!E2 -> Closed
B6: =IF(I6="Open",1,IF(I6="Closed",0,"")) -> 0 | C6: =Permits!A3 -> 260909-01 | D6: =HYPERLINK("https:\\reflectionsdetailing.com.au\reflections\Confined Space Permits\20" & LEFT(C6,2) & " " & MID(C6, 3, 2) & "\" & LEFT(C6, 6) & "\" & C6 & ".pdf", "Open Permit") -> Open Permit | E6: =DATE("20"&LEFT(C6,2),MID(C6,3,2), MID(C6,5,2)) -> 46274 | F6: =Permits!B3 -> Sydney City Marine Rozelle | G6: =Permits!C3 -> Kokomo | H6: =Permits!D3 -> Port Fresh Water Tank | I6: =Permits!E3 -> Closed
B7: =IF(I7="Open",1,IF(I7="Closed",0,"")) -> 0 | C7: =Permits!A4 -> 260907-02 | D7: =HYPERLINK("https:\\reflectionsdetailing.com.au\reflections\Confined Space Permits\20" & LEFT(C7,2) & " " & MID(C7, 3, 2) & "\" & LEFT(C7, 6) & "\" & C7 & ".pdf", "Open Permit") -> Open Permit | E7: =DATE("20"&LEFT(C7,2),MID(C7,3,2), MID(C7,5,2)) -> 46272 | F7: =Permits!B4 -> Port Botany | G7: =Permits!C4 -> Hellfire Bay | H7: =Permits!D4 -> Port Aft Ballast Tank | I7: =Permits!E4 -> Closed
B8: =IF(I8="Open",1,IF(I8="Closed",0,"")) -> 0 | C8: =Permits!A5 -> 260907-01 | D8: =HYPERLINK("https:\\reflectionsdetailing.com.au\reflections\Confined Space Permits\20" & LEFT(C8,2) & " " & MID(C8, 3, 2) & "\" & LEFT(C8, 6) & "\" & C8 & ".pdf", "Open Permit") -> Open Permit | E8: =DATE("20"&LEFT(C8,2),MID(C8,3,2), MID(C8,5,2)) -> 46272 | F8: =Permits!B5 -> Port Botany | G8: =Permits!C5 -> Hellfire Bay | H8: =Permits!D5 -> Forward Ballast Tank | I8: =Permits!E5 -> Closed
B9: =IF(I9="Open",1,IF(I9="Closed",0,"")) -> 0 | C9: =Permits!A6 -> 260902-06 | D9: =HYPERLINK("https:\\reflectionsdetailing.com.au\reflections\Confined Space Permits\20" & LEFT(C9,2) & " " & MID(C9, 3, 2) & "\" & LEFT(C9, 6) & "\" & C9 & ".pdf", "Open Permit") -> Open Permit | E9: =DATE("20"&LEFT(C9,2),MID(C9,3,2), MID(C9,5,2)) -> 46267 | F9: =Permits!B6 -> Sydney City Marine | G9: =Permits!C6 -> Beatrice Bush | H9: =Permits!D6 -> Ballast Tank Comp 1 | I9: =Permits!E6 -> Closed
B10: =IF(I10="Open",1,IF(I10="Closed",0,"")) -> 0 | C10: =Permits!A7 -> 260902-05 | D10: =HYPERLINK("https:\\reflectionsdetailing.com.au\reflections\Confined Space Permits\20" & LEFT(C10,2) & " " & MID(C10, 3, 2) & "\" & LEFT(C10, 6) & "\" & C10 & ".pdf", "Open Permit") -> Open Permit | E10: =DATE("20"&LEFT(C10,2),MID(C10,3,2), MID(C10,5,2)) -> 46267 | F10: =Permits!B7 -> Sydney City Marine | G10: =Permits!C7 -> Beatrice Bush | H10: =Permits!D7 -> Ballast Tank Comp 4 | I10: =Permits!E7 -> Closed
B11: =IF(I11="Open",1,IF(I11="Closed",0,"")) -> 0 | C11: =Permits!A8 -> 260902-04 | D11: =HYPERLINK("https:\\reflectionsdetailing.com.au\reflections\Confined Space Permits\20" & LEFT(C11,2) & " " & MID(C11, 3, 2) & "\" & LEFT(C11, 6) & "\" & C11 & ".pdf", "Open Permit") -> Open Permit | E11: =DATE("20"&LEFT(C11,2),MID(C11,3,2), MID(C11,5,2)) -> 46267 | F11: =Permits!B8 -> Sydney City Marine | G11: =Permits!C8 -> Beatrice Bush | H11: =Permits!D8 -> Ballast Tank Comp 7 | I11: =Permits!E8 -> Closed
B12: =IF($I$202="Open",1,IF($I$202="Closed",0,"")) -> 0 | C12: =Permits!A9 -> 260902-03 | D12: =HYPERLINK("https:\\reflectionsdetailing.com.au\reflections\Confined Space Permits\20" & LEFT(C12,2) & " " & MID(C12, 3, 2) & "\" & LEFT(C12, 6) & "\" & C12 & ".pdf", "Open Permit") -> Open Permit | E12: =DATE("20"&LEFT(C12,2),MID(C12,3,2), MID(C12,5,2)) -> 46267 | F12: =Permits!B9 -> Sydney City Marine | G12: =Permits!C9 -> Beatrice Bush | H12: =Permits!D9 -> Ballast Tank Comp 8 | I12: =Permits!E9 -> Closed
B13: =IF($I$201="Open",1,IF($I$201="Closed",0,"")) -> 0 | C13: =Permits!A10 -> 260902-02 | D13: =HYPERLINK("https:\\reflectionsdetailing.com.au\reflections\Confined Space Permits\20" & LEFT(C13,2) & " " & MID(C13, 3, 2) & "\" & LEFT(C13, 6) & "\" & C13 & ".pdf", "Open Permit") -> Open Permit | E13: =DATE("20"&LEFT(C13,2),MID(C13,3,2), MID(C13,5,2)) -> 46267 | F13: =Permits!B10 -> Sydney City Marine | G13: =Permits!C10 -> Beatrice Bush | H13: =Permits!D10 -> Ballast Tank Comp 5 | I13: =Permits!E10 -> Closed
B14: =IF($I$200="Open",1,IF($I$200="Closed",0,"")) -> 0 | C14: =Permits!A11 -> 260902-01 | D14: =HYPERLINK("https:\\reflectionsdetailing.com.au\reflections\Confined Space Permits\20" & LEFT(C14,2) & " " & MID(C14, 3, 2) & "\" & LEFT(C14, 6) & "\" & C14 & ".pdf", "Open Permit") -> Open Permit | E14: =DATE("20"&LEFT(C14,2),MID(C14,3,2), MID(C14,5,2)) -> 46267 | F14: =Permits!B11 -> Sydney City Marine | G14: =Permits!C11 -> Beatrice Bush | H14: =Permits!D11 -> Ballast Tank Comp 2 | I14: =Permits!E11 -> Closed
B15: =IF($I$199="Open",1,IF($I$199="Closed",0,"")) -> 0 | C15: =Permits!A12 -> 260824-01 | D15: =HYPERLINK("https:\\reflectionsdetailing.com.au\reflections\Confined Space Permits\20" & LEFT(C15,2) & " " & MID(C15, 3, 2) & "\" & LEFT(C15, 6) & "\" & C15 & ".pdf", "Open Permit") -> Open Permit | E15: =DATE("20"&LEFT(C15,2),MID(C15,3,2), MID(C15,5,2)) -> 46258 | F15: =Permits!B12 -> Sydney City Marine Rozelle | G15: =Permits!C12 -> Ocean Adventurer | H15: =Permits!D12 -> Starboard Engine Room | I15: =Permits!E12 -> Closed
B16: =IF($I$198="Open",1,IF($I$198="Closed",0,"")) -> 0 | C16: =Permits!A13 -> 260821-01 | D16: =HYPERLINK("https:\\reflectionsdetailing.com.au\reflections\Confined Space Permits\20" & LEFT(C16,2) & " " & MID(C16, 3, 2) & "\" & LEFT(C16, 6) & "\" & C16 & ".pdf", "Open Permit") -> Open Permit | E16: =DATE("20"&LEFT(C16,2),MID(C16,3,2), MID(C16,5,2)) -> 46255 | F16: =Permits!B13 -> Sydney City Marine Rozelle | G16: =Permits!C13 -> Ocean Adventurer | H16: =Permits!D13 -> Starboard Engine Room | I16: =Permits!E13 -> Closed
B17: =IF($I$197="Open",1,IF($I$197="Closed",0,"")) -> 0 | C17: =Permits!A14 -> 260820-01 | D17: =HYPERLINK("https:\\reflectionsdetailing.com.au\reflections\Confined Space Permits\20" & LEFT(C17,2) & " " & MID(C17, 3, 2) & "\" & LEFT(C17, 6) & "\" & C17 & ".pdf", "Open Permit") -> Open Permit | E17: =DATE("20"&LEFT(C17,2),MID(C17,3,2), MID(C17,5,2)) -> 46254 | F17: =Permits!B14 -> Sydney City Marine Rozelle | G17: =Permits!C14 -> Ocean Adventurer | H17: =Permits!D14 -> Starboard Engine Room | I17: =Permits!E14 -> Closed
B18: =IF($I$196="Open",1,IF($I$196="Closed",0,"")) -> 0 | C18: =Permits!A15 -> 260819-03 | D18: =HYPERLINK("https:\\reflectionsdetailing.com.au\reflections\Confined Space Permits\20" & LEFT(C18,2) & " " & MID(C18, 3, 2) & "\" & LEFT(C18, 6) & "\" & C18 & ".pdf", "Open Permit") -> Open Permit | E18: =DATE("20"&LEFT(C18,2),MID(C18,3,2), MID(C18,5,2)) -> 46253 | F18: =Permits!B15 -> Sydney City Marine Rozelle | G18: =Permits!C15 -> Harbour Spirit | H18: =Permits!D15 -> Port Engine Room | I18: =Permits!E15 -> Closed
B19: =IF($I$195="Open",1,IF($I$195="Closed",0,"")) -> 0 | C19: =Permits!A16 -> 260819-02 | D19: =HYPERLINK("https:\\reflectionsdetailing.com.au\reflections\Confined Space Permits\20" & LEFT(C19,2) & " " & MID(C19, 3, 2) & "\" & LEFT(C19, 6) & "\" & C19 & ".pdf", "Open Permit") -> Open Permit | E19: =DATE("20"&LEFT(C19,2),MID(C19,3,2), MID(C19,5,2)) -> 46253 | F19: =Permits!B16 -> Sydney City Marine Rozelle | G19: =Permits!C16 -> Harbour Spirit | H19: =Permits!D16 -> Starboard Engine Room | I19: =Permits!E16 -> Closed
B20: =IF($I$194="Open",1,IF($I$194="Closed",0,"")) -> 0 | C20: =Permits!A17 -> 260819-01 | D20: =HYPERLINK("https:\\reflectionsdetailing.com.au\reflections\Confined Space Permits\20" & LEFT(C20,2) & " " & MID(C20, 3, 2) & "\" & LEFT(C20, 6) & "\" & C20 & ".pdf", "Open Permit") -> Open Permit | E20: =DATE("20"&LEFT(C20,2),MID(C20,3,2), MID(C20,5,2)) -> 46253 | F20: =Permits!B17 -> Sydney City Marine Rozelle | G20: =Permits!C17 -> Ocean Adventurer | H20: =Permits!D17 -> Starboard Fuel Void | I20: =Permits!E17 -> Closed
B21: =IF($I$193="Open",1,IF($I$193="Closed",0,"")) -> 0 | C21: =Permits!A18 -> 260818-02 | D21: =HYPERLINK("https:\\reflectionsdetailing.com.au\reflections\Confined Space Permits\20" & LEFT(C21,2) & " " & MID(C21, 3, 2) & "\" & LEFT(C21, 6) & "\" & C21 & ".pdf", "Open Permit") -> Open Permit | E21: =DATE("20"&LEFT(C21,2),MID(C21,3,2), MID(C21,5,2)) -> 46252 | F21: =Permits!B18 -> Sydney City Marine Rozelle | G21: =Permits!C18 -> Harbour Spirit | H21: =Permits!D18 -> Port Engine Room | I21: =Permits!E18 -> Closed
B22: =IF($I$192="Open",1,IF($I$192="Closed",0,"")) -> 0 | C22: =Permits!A19 -> 260818-01 | D22: =HYPERLINK("https:\\reflectionsdetailing.com.au\reflections\Confined Space Permits\20" & LEFT(C22,2) & " " & MID(C22, 3, 2) & "\" & LEFT(C22, 6) & "\" & C22 & ".pdf", "Open Permit") -> Open Permit | E22: =DATE("20"&LEFT(C22,2),MID(C22,3,2), MID(C22,5,2)) -> 46252 | F22: =Permits!B19 -> Sydney City Marine Rozelle | G22: =Permits!C19 -> Ocean Adventurer | H22: =Permits!D19 -> Starboard Fuel Void | I22: =Permits!E19 -> Closed
B23: =IF($I$191="Open",1,IF($I$191="Closed",0,"")) -> 0 | C23: =Permits!A20 -> 260817-02 | D23: =HYPERLINK("https:\\reflectionsdetailing.com.au\reflections\Confined Space Permits\20" & LEFT(C23,2) & " " & MID(C23, 3, 2) & "\" & LEFT(C23, 6) & "\" & C23 & ".pdf", "Open Permit") -> Open Permit | E23: =DATE("20"&LEFT(C23,2),MID(C23,3,2), MID(C23,5,2)) -> 46251 | F23: =Permits!B20 -> Sydney City Marine Rozelle | G23: =Permits!C20 -> Harbour Spirit | H23: =Permits!D20 -> Port Engine Room | I23: =Permits!E20 -> Closed
B24: =IF($I$190="Open",1,IF($I$190="Closed",0,"")) -> 0 | C24: =Permits!A21 -> 260817-01 | D24: =HYPERLINK("https:\\reflectionsdetailing.com.au\reflections\Confined Space Permits\20" & LEFT(C24,2) & " " & MID(C24, 3, 2) & "\" & LEFT(C24, 6) & "\" & C24 & ".pdf", "Open Permit") -> Open Permit | E24: =DATE("20"&LEFT(C24,2),MID(C24,3,2), MID(C24,5,2)) -> 46251 | F24: =Permits!B21 -> Sydney City Marine Rozelle | G24: =Permits!C21 -> Ocean Adventurer | H24: =Permits!D21 -> Starboard Fuel Void | I24: =Permits!E21 -> Closed
B25: =IF($I$189="Open",1,IF($I$189="Closed",0,"")) -> 0 | C25: =Permits!A22 -> 260815-01 | D25: =HYPERLINK("https:\\reflectionsdetailing.com.au\reflections\Confined Space Permits\20" & LEFT(C25,2) & " " & MID(C25, 3, 2) & "\" & LEFT(C25, 6) & "\" & C25 & ".pdf", "Open Permit") -> Open Permit | E25: =DATE("20"&LEFT(C25,2),MID(C25,3,2), MID(C25,5,2)) -> 46249 | F25: =Permits!B22 -> Sydney City Marine Rozelle | G25: =Permits!C22 -> Ocean Adventurer | H25: =Permits!D22 -> Starboard Fuel Void | I25: =Permits!E22 -> Closed
B26: =IF($I$188="Open",1,IF($I$188="Closed",0,"")) -> 0 | C26: =Permits!A23 -> 260814-01 | D26: =HYPERLINK("https:\\reflectionsdetailing.com.au\reflections\Confined Space Permits\20" & LEFT(C26,2) & " " & MID(C26, 3, 2) & "\" & LEFT(C26, 6) & "\" & C26 & ".pdf", "Open Permit") -> Open Permit | E26: =DATE("20"&LEFT(C26,2),MID(C26,3,2), MID(C26,5,2)) -> 46248 | F26: =Permits!B23 -> Sydney City Marine Rozelle | G26: =Permits!C23 -> Ocean Adventurer | H26: =Permits!D23 -> Starboard Fuel Void | I26: =Permits!E23 -> Closed
B27: =IF($I$187="Open",1,IF($I$187="Closed",0,"")) -> 0 | C27: =Permits!A24 -> 260813-01 | D27: =HYPERLINK("https:\\reflectionsdetailing.com.au\reflections\Confined Space Permits\20" & LEFT(C27,2) & " " & MID(C27, 3, 2) & "\" & LEFT(C27, 6) & "\" & C27 & ".pdf", "Open Permit") -> Open Permit | E27: =DATE("20"&LEFT(C27,2),MID(C27,3,2), MID(C27,5,2)) -> 46247 | F27: =Permits!B24 -> Sydney City Marine Rozelle | G27: =Permits!C24 -> Ocean Adventurer | H27: =Permits!D24 -> Starboard Fuel Void | I27: =Permits!E24 -> Closed
B28: =IF($I$186="Open",1,IF($I$186="Closed",0,"")) -> 0 | C28: =Permits!A25 -> 260812-01 | D28: =HYPERLINK("https:\\reflectionsdetailing.com.au\reflections\Confined Space Permits\20" & LEFT(C28,2) & " " & MID(C28, 3, 2) & "\" & LEFT(C28, 6) & "\" & C28 & ".pdf", "Open Permit") -> Open Permit | E28: =DATE("20"&LEFT(C28,2),MID(C28,3,2), MID(C28,5,2)) -> 46246 | F28: =Permits!B25 -> Sydney City Marine Rozelle | G28: =Permits!C25 -> Ocean Adventurer | H28: =Permits!D25 -> Starboard Fuel Void | I28: =Permits!E25 -> Closed
B29: =IF($I$185="Open",1,IF($I$185="Closed",0,"")) -> 0 | C29: =Permits!A26 -> 260811-01 | D29: =HYPERLINK("https:\\reflectionsdetailing.com.au\reflections\Confined Space Permits\20" & LEFT(C29,2) & " " & MID(C29, 3, 2) & "\" & LEFT(C29, 6) & "\" & C29 & ".pdf", "Open Permit") -> Open Permit | E29: =DATE("20"&LEFT(C29,2),MID(C29,3,2), MID(C29,5,2)) -> 46245 | F29: =Permits!B26 -> Sydney City Marine Rozelle | G29: =Permits!C26 -> Ocean Adventurer | H29: =Permits!D26 -> Starboard Fuel Void | I29: =Permits!E26 -> Closed
B30: =IF($I$184="Open",1,IF($I$184="Closed",0,"")) -> 0 | C30: =Permits!A27 -> 260810-01 | D30: =HYPERLINK("https:\\reflectionsdetailing.com.au\reflections\Confined Space Permits\20" & LEFT(C30,2) & " " & MID(C30, 3, 2) & "\" & LEFT(C30, 6) & "\" & C30 & ".pdf", "Open Permit") -> Open Permit | E30: =DATE("20"&LEFT(C30,2),MID(C30,3,2), MID(C30,5,2)) -> 46244 | F30: =Permits!B27 -> Sydney City Marine Rozelle | G30: =Permits!C27 -> Ocean Adventurer | H30: =Permits!D27 -> Starboard Fuel Void | I30: =Permits!E27 -> Closed
B31: =IF($I$183="Open",1,IF($I$183="Closed",0,"")) -> 0 | C31: =Permits!A28 -> 260808-01 | D31: =HYPERLINK("https:\\reflectionsdetailing.com.au\reflections\Confined Space Permits\20" & LEFT(C31,2) & " " & MID(C31, 3, 2) & "\" & LEFT(C31, 6) & "\" & C31 & ".pdf", "Open Permit") -> Open Permit | E31: =DATE("20"&LEFT(C31,2),MID(C31,3,2), MID(C31,5,2)) -> 46242 | F31: =Permits!B28 -> Sydney City Marine Rozelle | G31: =Permits!C28 -> Ocean Adventurer | H31: =Permits!D28 -> Starboard Fuel Void | I31: =Permits!E28 -> Closed
B32: =IF($I$182="Open",1,IF($I$182="Closed",0,"")) -> 0 | C32: =Permits!A29 -> 260807-01 | D32: =HYPERLINK("https:\\reflectionsdetailing.com.au\reflections\Confined Space Permits\20" & LEFT(C32,2) & " " & MID(C32, 3, 2) & "\" & LEFT(C32, 6) & "\" & C32 & ".pdf", "Open Permit") -> Open Permit | E32: =DATE("20"&LEFT(C32,2),MID(C32,3,2), MID(C32,5,2)) -> 46241 | F32: =Permits!B29 -> Sydney City Marine Rozelle | G32: =Permits!C29 -> Ocean Adventurer | H32: =Permits!D29 -> Starboard Fuel Void | I32: =Permits!E29 -> Closed
B33: =IF($I$181="Open",1,IF($I$181="Closed",0,"")) -> 0 | C33: =Permits!A30 -> 260721-06 | D33: =HYPERLINK("https:\\reflectionsdetailing.com.au\reflections\Confined Space Permits\20" & LEFT(C33,2) & " " & MID(C33, 3, 2) & "\" & LEFT(C33, 6) & "\" & C33 & ".pdf", "Open Permit") -> Open Permit | E33: =DATE("20"&LEFT(C33,2),MID(C33,3,2), MID(C33,5,2)) -> 46224 | F33: =Permits!B30 -> Sydney City Marine Rozelle | G33: =Permits!C30 -> FTL0473 | H33: =Permits!D30 -> Port Forward Void | I33: =Permits!E30 -> Closed
B34: =IF($I$180="Open",1,IF($I$180="Closed",0,"")) -> 0 | C34: =Permits!A31 -> 260721-05 | D34: =HYPERLINK("https:\\reflectionsdetailing.com.au\reflections\Confined Space Permits\20" & LEFT(C34,2) & " " & MID(C34, 3, 2) & "\" & LEFT(C34, 6) & "\" & C34 & ".pdf", "Open Permit") -> Open Permit | E34: =DATE("20"&LEFT(C34,2),MID(C34,3,2), MID(C34,5,2)) -> 46224 | F34: =Permits!B31 -> Sydney City Marine Rozelle | G34: =Permits!C31 -> FTL0473 | H34: =Permits!D31 -> Port Mid Void | I34: =Permits!E31 -> Closed
B35: =IF($I$179="Open",1,IF($I$179="Closed",0,"")) -> 0 | C35: =Permits!A32 -> 260721-04 | D35: =HYPERLINK("https:\\reflectionsdetailing.com.au\reflections\Confined Space Permits\20" & LEFT(C35,2) & " " & MID(C35, 3, 2) & "\" & LEFT(C35, 6) & "\" & C35 & ".pdf", "Open Permit") -> Open Permit | E35: =DATE("20"&LEFT(C35,2),MID(C35,3,2), MID(C35,5,2)) -> 46224 | F35: =Permits!B32 -> Sydney City Marine Rozelle | G35: =Permits!C32 -> FTL0473 | H35: =Permits!D32 -> Port Aft Void | I35: =Permits!E32 -> Closed
B36: =IF($I$178="Open",1,IF($I$178="Closed",0,"")) -> 0 | C36: =Permits!A33 -> 260721-03 | D36: =HYPERLINK("https:\\reflectionsdetailing.com.au\reflections\Confined Space Permits\20" & LEFT(C36,2) & " " & MID(C36, 3, 2) & "\" & LEFT(C36, 6) & "\" & C36 & ".pdf", "Open Permit") -> Open Permit | E36: =DATE("20"&LEFT(C36,2),MID(C36,3,2), MID(C36,5,2)) -> 46224 | F36: =Permits!B33 -> Sydney City Marine Rozelle | G36: =Permits!C33 -> FTL0473 | H36: =Permits!D33 -> Starboard Aft Void | I36: =Permits!E33 -> Closed
B37: =IF($I$177="Open",1,IF($I$177="Closed",0,"")) -> 0 | C37: =Permits!A34 -> 260721-02 | D37: =HYPERLINK("https:\\reflectionsdetailing.com.au\reflections\Confined Space Permits\20" & LEFT(C37,2) & " " & MID(C37, 3, 2) & "\" & LEFT(C37, 6) & "\" & C37 & ".pdf", "Open Permit") -> Open Permit | E37: =DATE("20"&LEFT(C37,2),MID(C37,3,2), MID(C37,5,2)) -> 46224 | F37: =Permits!B34 -> Sydney City Marine Rozelle | G37: =Permits!C34 -> FTL0473 | H37: =Permits!D34 -> Starboard Mid Void | I37: =Permits!E34 -> Closed
B38: =IF($I$176="Open",1,IF($I$176="Closed",0,"")) -> 0 | C38: =Permits!A35 -> 260721-01 | D38: =HYPERLINK("https:\\reflectionsdetailing.com.au\reflections\Confined Space Permits\20" & LEFT(C38,2) & " " & MID(C38, 3, 2) & "\" & LEFT(C38, 6) & "\" & C38 & ".pdf", "Open Permit") -> Open Permit | E38: =DATE("20"&LEFT(C38,2),MID(C38,3,2), MID(C38,5,2)) -> 46224 | F38: =Permits!B35 -> Sydney City Marine Rozelle | G38: =Permits!C35 -> FTL0473 | H38: =Permits!D35 -> Starboard Forward Void | I38: =Permits!E35 -> Closed
B39: =IF($I$175="Open",1,IF($I$175="Closed",0,"")) -> 0 | C39: =Permits!A36 -> 260720-06 | D39: =HYPERLINK("https:\\reflectionsdetailing.com.au\reflections\Confined Space Permits\20" & LEFT(C39,2) & " " & MID(C39, 3, 2) & "\" & LEFT(C39, 6) & "\" & C39 & ".pdf", "Open Permit") -> Open Permit | E39: =DATE("20"&LEFT(C39,2),MID(C39,3,2), MID(C39,5,2)) -> 46223 | F39: =Permits!B36 -> Sydney City Marine Rozelle | G39: =Permits!C36 -> FTL0473 | H39: =Permits!D36 -> Starboard Forward Void | I39: =Permits!E36 -> Closed
B40: =IF($I$174="Open",1,IF($I$174="Closed",0,"")) -> 0 | C40: =Permits!A37 -> 260720-05 | D40: =HYPERLINK("https:\\reflectionsdetailing.com.au\reflections\Confined Space Permits\20" & LEFT(C40,2) & " " & MID(C40, 3, 2) & "\" & LEFT(C40, 6) & "\" & C40 & ".pdf", "Open Permit") -> Open Permit | E40: =DATE("20"&LEFT(C40,2),MID(C40,3,2), MID(C40,5,2)) -> 46223 | F40: =Permits!B37 -> Sydney City Marine Rozelle | G40: =Permits!C37 -> FTL0473 | H40: =Permits!D37 -> Starboard Mid Void | I40: =Permits!E37 -> Closed
B41: =IF($I$173="Open",1,IF($I$173="Closed",0,"")) -> 0 | C41: =Permits!A38 -> 260720-04 | D41: =HYPERLINK("https:\\reflectionsdetailing.com.au\reflections\Confined Space Permits\20" & LEFT(C41,2) & " " & MID(C41, 3, 2) & "\" & LEFT(C41, 6) & "\" & C41 & ".pdf", "Open Permit") -> Open Permit | E41: =DATE("20"&LEFT(C41,2),MID(C41,3,2), MID(C41,5,2)) -> 46223 | F41: =Permits!B38 -> Sydney City Marine Rozelle | G41: =Permits!C38 -> FTL0473 | H41: =Permits!D38 -> Starboard Aft Void | I41: =Permits!E38 -> Closed
B42: =IF($I$172="Open",1,IF($I$172="Closed",0,"")) -> 0 | C42: =Permits!A39 -> 260720-03 | D42: =HYPERLINK("https:\\reflectionsdetailing.com.au\reflections\Confined Space Permits\20" & LEFT(C42,2) & " " & MID(C42, 3, 2) & "\" & LEFT(C42, 6) & "\" & C42 & ".pdf", "Open Permit") -> Open Permit | E42: =DATE("20"&LEFT(C42,2),MID(C42,3,2), MID(C42,5,2)) -> 46223 | F42: =Permits!B39 -> Sydney City Marine Rozelle | G42: =Permits!C39 -> FTL0473 | H42: =Permits!D39 -> Port Aft Void | I42: =Permits!E39 -> Closed
...

Sheet Permits
A2: 261019-02 | B2: Sydney City Marine Rozelle | C2: Shortland | D2: Port Engine Room | E2: Closed | F2: 2026-10-20 07:34:07
A3: 261019-01 | B3: Sydney City Marine Rozelle | C3: Shortland | D3: Starboard Aft Void | E3: Closed | F3: 2026-10-19 14:55:41
A4: 260909-02 | B4: Sydney City Marine Rozelle | C4: Kokomo | D4: Starboard Fresh Water Tank | E4: Closed | F4: 2026-09-18 13:32:56
A5: 260909-01 | B5: Sydney City Marine Rozelle | C5: Kokomo | D5: Port Fresh Water Tank | E5: Closed | F5: 2026-09-18 13:29:36
A6: 260907-02 | B6: Port Botany | C6: Hellfire Bay | D6: Port Aft Ballast Tank | E6: Closed | F6: 2026-09-18 13:28:18
A7: 260907-01 | B7: Port Botany | C7: Hellfire Bay | D7: Forward Ballast Tank | E7: Closed | F7: 2026-09-18 13:22:50
A8: 260902-06 | B8: Sydney City Marine | C8: Beatrice Bush | D8: Ballast Tank Comp 1 | E8: Closed | F8: 2026-09-17 16:41:36
A9: 260902-05 | B9: Sydney City Marine | C9: Beatrice Bush | D9: Ballast Tank Comp 4 | E9: Closed | F9: 2026-09-17 16:41:00
A10: 260902-04 | B10: Sydney City Marine | C10: Beatrice Bush | D10: Ballast Tank Comp 7 | E10: Closed | F10: 2026-09-17 16:39:56
A11: 260902-03 | B11: Sydney City Marine | C11: Beatrice Bush | D11: Ballast Tank Comp 8 | E11: Closed | F11: 2026-09-17 16:39:21
A12: 260902-02 | B12: Sydney City Marine | C12: Beatrice Bush | D12: Ballast Tank Comp 5 | E12: Closed | F12: 2026-09-17 16:38:50
A13: 260902-01 | B13: Sydney City Marine | C13: Beatrice Bush | D13: Ballast Tank Comp 2 | E13: Closed | F13: 2026-09-17 16:38:22
A14: 260824-01 | B14: Sydney City Marine Rozelle | C14: Ocean Adventurer | D14: Starboard Engine Room | E14: Closed
A15: 260821-01 | B15: Sydney City Marine Rozelle | C15: Ocean Adventurer | D15: Starboard Engine Room | E15: Closed
A16: 260820-01 | B16: Sydney City Marine Rozelle | C16: Ocean Adventurer | D16: Starboard Engine Room | E16: Closed
A17: 260819-03 | B17: Sydney City Marine Rozelle | C17: Harbour Spirit | D17: Port Engine Room | E17: Closed
A18: 260819-02 | B18: Sydney City Marine Rozelle | C18: Harbour Spirit | D18: Starboard Engine Room | E18: Closed
A19: 260819-01 | B19: Sydney City Marine Rozelle | C19: Ocean Adventurer | D19: Starboard Fuel Void | E19: Closed
A20: 260818-02 | B20: Sydney City Marine Rozelle | C20: Harbour Spirit | D20: Port Engine Room | E20: Closed
A21: 260818-01 | B21: Sydney City Marine Rozelle | C21: Ocean Adventurer | D21: Starboard Fuel Void | E21: Closed
A22: 260817-02 | B22: Sydney City Marine Rozelle | C22: Harbour Spirit | D22: Port Engine Room | E22: Closed
A23: 260817-01 | B23: Sydney City Marine Rozelle | C23: Ocean Adventurer | D23: Starboard Fuel Void | E23: Closed
A24: 260815-01 | B24: Sydney City Marine Rozelle | C24: Ocean Adventurer | D24: Starboard Fuel Void | E24: Closed
A25: 260814-01 | B25: Sydney City Marine Rozelle | C25: Ocean Adventurer | D25: Starboard Fuel Void | E25: Closed
... A218: 251029-01 | B218: Sydney City Marine Rozelle | C218: Ocean Tracker | D218: Starboard Fuel Void | E218: Closed
